BEGIN:VCALENDAR
VERSION:2.0
PRODID:-//peaceCENTER - ECPv4.6.13//NONSGML v1.0//EN
CALSCALE:GREGORIAN
METHOD:PUBLISH
X-WR-CALNAME:peaceCENTER
X-ORIGINAL-URL:http://www.sanantoniopeace.center
X-WR-CALDESC:Events for peaceCENTER
BEGIN:VEVENT
DTSTART;TZID=America/Chicago:20150228T090000
DTEND;TZID=America/Chicago:20150228T130000
DTSTAMP:20260425T112616
CREATED:20150210T184658Z
LAST-MODIFIED:20150210T184658Z
UID:2361-1425114000-1425128400@www.sanantoniopeace.center
SUMMARY:2015 WGC Girls Global Summit
DESCRIPTION:What does it mean to be a global citizen? Teams of high school girls lead us in a fun half-day summit to explore that question. \nExpand your horizons by immersing yourself in the issues facing girls and women around the globe. \nWhether you’re a school-age girl (10 and up recommended) just getting a sense of the larger world… …or a community leader\, mom\, teacher or mentor… THIS event is for you! \nNo cost to attend\, lunch provided. RSVP here.\n \n
URL:http://www.sanantoniopeace.center/event/2015-wgc-girls-global-summit/
LOCATION:4301 Broadway\, San Antonio\, TX\, 78209\, United States
END:VEVENT
END:VCALENDAR