BEGIN:VCALENDAR
VERSION:2.0
PRODID:-//peaceCENTER - ECPv4.6.13//NONSGML v1.0//EN
CALSCALE:GREGORIAN
METHOD:PUBLISH
X-WR-CALNAME:peaceCENTER
X-ORIGINAL-URL:http://www.sanantoniopeace.center
X-WR-CALDESC:Events for peaceCENTER
BEGIN:VEVENT
DTSTART;TZID=America/Chicago:20141208T080000
DTEND;TZID=America/Chicago:20141208T133000
DTSTAMP:20260425T172020
CREATED:20141125T133136Z
LAST-MODIFIED:20141125T133136Z
UID:1310-1418025600-1418045400@www.sanantoniopeace.center
SUMMARY:2014 Central Texas Environmental Summit 
DESCRIPTION:\n\n\nThe Texas Commission on Environmental Quality is cosponsoring an environmental summit with State Senator Kirk Watson\, District 14\, on Dec. 8\, 2014\, from 8:00 am. – 1:30 p.m.. \nThe event\, designed for people who live and work along the Austin/San Antonio IH-35 corridor\, gives residents\, local and state leaders\, businesses\, students and all interested parties an opportunity to discuss long-term solutions to environmental challenges unique to this rapidly growing part of our state. \nThe Summit will include presentations on environmental topics that affect Central Texas\, such as the status of the drought and air quality. Attendees will also have an opportunity to visit exhibits and talk to experts from various state and local agencies. \nThe summit is free and open to the public; however\, registration is required. \n\n\n\n
URL:http://www.sanantoniopeace.center/event/2014-central-texas-environmental-summit/
LOCATION:1498 Chestnut St\, Bastrop\, TX\, 78602\, United States
END:VEVENT
END:VCALENDAR