BEGIN:VCALENDAR
VERSION:2.0
PRODID:-//peaceCENTER - ECPv4.6.13//NONSGML v1.0//EN
CALSCALE:GREGORIAN
METHOD:PUBLISH
X-WR-CALNAME:peaceCENTER
X-ORIGINAL-URL:http://www.sanantoniopeace.center
X-WR-CALDESC:Events for peaceCENTER
BEGIN:VEVENT
DTSTART;TZID=America/Chicago:20151126T170000
DTEND;TZID=America/Chicago:20151126T180000
DTSTAMP:20260425T134538
CREATED:20151125T074936Z
LAST-MODIFIED:20151125T075029Z
UID:5239-1448557200-1448560800@www.sanantoniopeace.center
SUMMARY:¡14 Meses en Lucha y Solidaridad con Ayotzinapa!  / 14 Months in Struggle and Solidarity with Ayotzinapa!
DESCRIPTION:Every 26th of the month\, Somos Ayotzinapa SATX gathers at the entrance of San Antonio’s Mexican Consulate in solidarity with the families of the missing 43. All community members welcomed! We condemn both the Mexican and American governments’ involvement and join the parents of the 43\, in demanding the following: \n1. Acknowledgement of the legitimacy of their search for justice and of the existing open investigation\n2. Acceptance and continuation of the GIEI’s report and their recommendations\n3. Expansion of the investigation with the inclusion of a specialized unit\, with international supervision; highlighting two end goals: profound search for our sons and inquiry into the fabrication which attempted to deceive us\n4. Re-launch of a new\, concentrated investigation utilizing all smart technology available\n5. Dignified and immediate attention and treatment to all family members of the disappeared\n6. Respect for the Normal Rural Raúl Isidro Burgos and the immediate cease of all attempts to criminalize the normalistas.\n7. Creation of a permanent\, clear and respectful communication mechanism for relaying sensitive investigation findings.\n8. Acknowledgement and active change against the crisis in impunity\, corruption and human rights violations occurring in Mexico. \n-/-/-/-/-/-/-/-/-/-/-/-/-/-/-/-/-/-/-/-/-/-/-/-/-/-/-/-/-/-/-/-/-/-/-/-/- \nEl 26 de cada mes\, Somos Ayotzinapa SATX se reúne en frente de la oficina del Consulado de México de San Antonio\, en solidaridad con las familias de los 43 desaparecidos. Invitamos a miembros de la comunidad que nos acompañen. ¡Denunciamos a los gobiernos de México y Estados Unidos por su participación en las desapariciones y no unimos con los padres de los 43 en exigir lo siguiente: \n1. Reconocimiento de la legitimidad de nuestra búsqueda de justicia y de que el caso se encuentra abierto\n2. Permanencia del GIEI\, aceptación plena del informe del GIEI y sus recomendaciones.\n3. Replanteamiento de la investigación en una unidad especializada de investigación\, con supervisión internacional\, compuesta por dos instancias: una que indague a profundidad dónde están nuestros hijos y otra que investigue el montaje con que se nos pretendió engañar.\n4. Relanzamiento y concentración de la búsqueda a partir del uso inmediato de tecnología.\n5. Atención digna e inmediata a los heridos y familiares de nuestros compañeros ejecutados extrajudicialmente. Trato digno a las víctimas.\n6. Respeto a la Normal Rural Raúl Isidro Burgos y cese a los intentos de criminalización de los normalistas.\n7. Mecanismos de comunicación permanente\, digna y con respeto a nuestros derechos.\n8. Reconocimiento y acciones de fondo frente a la crisis de impunidad\, corrupción y violaciones a derechos humanos que vive México. \nhttp://www.jornada.unam.mx/ultimas/2015/09/24/exigencias-esenciales-de-padres-de-normalistas-a-pena-229.html \n\n  \n
URL:http://www.sanantoniopeace.center/event/14-meses-en-lucha-y-solidaridad-con-ayotzinapa-14-months-in-struggle-and-solidarity-with-ayotzinapa/
LOCATION:127 Navarro\, San Antonio\, TX\, 78205\, United States
END:VEVENT
END:VCALENDAR