BEGIN:VCALENDAR
VERSION:2.0
PRODID:-//peaceCENTER - ECPv4.6.13//NONSGML v1.0//EN
CALSCALE:GREGORIAN
METHOD:PUBLISH
X-WR-CALNAME:peaceCENTER
X-ORIGINAL-URL:http://www.sanantoniopeace.center
X-WR-CALDESC:Events for peaceCENTER
BEGIN:VEVENT
DTSTART;TZID=America/Chicago:20160501T153000
DTEND;TZID=America/Chicago:20160501T180000
DTSTAMP:20260425T133739
CREATED:20160311T171313Z
LAST-MODIFIED:20160311T171313Z
UID:6630-1462116600-1462125600@www.sanantoniopeace.center
SUMMARY:10th Annual International Worker's Day March & Rally
DESCRIPTION: \n
URL:http://www.sanantoniopeace.center/event/10th-annual-international-workers-day-march-rally/
LOCATION:500 W. Houston St.\, San Antonio\, TX\, 78207\, United States
CATEGORIES:Other
END:VEVENT
END:VCALENDAR